BEGIN:VCALENDAR
VERSION:2.0
PRODID:-//BLASC - ECPv6.15.20//NONSGML v1.0//EN
CALSCALE:GREGORIAN
METHOD:PUBLISH
X-WR-CALNAME:BLASC
X-ORIGINAL-URL:https://blasc.us
X-WR-CALDESC:Events for BLASC
REFRESH-INTERVAL;VALUE=DURATION:PT1H
X-Robots-Tag:noindex
X-PUBLISHED-TTL:PT1H
BEGIN:VTIMEZONE
TZID:America/Los_Angeles
BEGIN:DAYLIGHT
TZOFFSETFROM:-0800
TZOFFSETTO:-0700
TZNAME:PDT
DTSTART:20240310T100000
END:DAYLIGHT
BEGIN:STANDARD
TZOFFSETFROM:-0700
TZOFFSETTO:-0800
TZNAME:PST
DTSTART:20241103T090000
END:STANDARD
BEGIN:DAYLIGHT
TZOFFSETFROM:-0800
TZOFFSETTO:-0700
TZNAME:PDT
DTSTART:20250309T100000
END:DAYLIGHT
BEGIN:STANDARD
TZOFFSETFROM:-0700
TZOFFSETTO:-0800
TZNAME:PST
DTSTART:20251102T090000
END:STANDARD
BEGIN:DAYLIGHT
TZOFFSETFROM:-0800
TZOFFSETTO:-0700
TZNAME:PDT
DTSTART:20260308T100000
END:DAYLIGHT
BEGIN:STANDARD
TZOFFSETFROM:-0700
TZOFFSETTO:-0800
TZNAME:PST
DTSTART:20261101T090000
END:STANDARD
BEGIN:DAYLIGHT
TZOFFSETFROM:-0800
TZOFFSETTO:-0700
TZNAME:PDT
DTSTART:20270314T100000
END:DAYLIGHT
BEGIN:STANDARD
TZOFFSETFROM:-0700
TZOFFSETTO:-0800
TZNAME:PST
DTSTART:20271107T090000
END:STANDARD
END:VTIMEZONE
BEGIN:VEVENT
DTSTART;TZID=America/Los_Angeles:20260404T090000
DTEND;TZID=America/Los_Angeles:20260404T130000
DTSTAMP:20260422T091424
CREATED:20260311T195439Z
LAST-MODIFIED:20260311T195439Z
UID:7315-1775293200-1775307600@blasc.us
SUMMARY:FOOD BANK EVENT
DESCRIPTION:LOS ANGELES FOOD BANK: \nDate and Time: Sat\, Apr 4\, 2026  \n9:00 AM – 1:00 PM (UTC-08:00) Pacific Time (US & Canada)  \nBenefiting Organization: LOS ANGELES REGIONAL FOOD BANK \nFor details click here
URL:https://blasc.us/events/food-bank-event/
LOCATION:LOS ANGELES FOOD BANK\, 2300 Pellissier Place\, City of Industry\, CA\, 90601\, United States
CATEGORIES:FOOD BANK EVENT
ORGANIZER;CN="Brian Metran":MAILTO:brian.m.metran@boeing.com
END:VEVENT
BEGIN:VEVENT
DTSTART;TZID=America/Los_Angeles:20251026T090000
DTEND;TZID=America/Los_Angeles:20251026T234500
DTSTAMP:20260422T091424
CREATED:20250609T023703Z
LAST-MODIFIED:20250609T023707Z
UID:6540-1761469200-1761522300@blasc.us
SUMMARY:WALK TO END ALZHEIMER’S
DESCRIPTION:WALK TO END ALZHEIMER’S \nRainbow Lagoon\, Long Beach\nHeld annually in more than 600 communities nationwide\, the Alzheimer’s Association Walk to End Alzheimer’s® is the world’s largest event to raise awareness and funds for Alzheimer’s care\, support and research. This inspiring event calls on participants of all ages and abilities to join the fight against the disease! \nBLASC -Participate or Volunteer   \nYour Team: BLASC-Boeing • Your Team ID: 11767725 \n\n Register to WALK\, click HERE\, go to Join our Team\, or enter: BLASC – Boeing (Boeing Leadership Association of So Cal) \n\nRegister or Donate: \n2025 Walk to End Alzheimer’s – Long Beach\, CA: BLASC – Boeing Leadership Assoc of So Cal | Walk to End Alzheimer’s \nRSVP to corine.Kumano@gmail.com or brian.m.metran@boeing.com \n\nRegistration Opens: 9:00am\nOpening Ceremony: 10:00am \nWalk Begins: 10:30am  \n\n 
URL:https://blasc.us/events/walk-to-end-alzheimers/
LOCATION:Shoreline Aquatic Park\, 200 Aquarium Way\, Long Beach\,\, CA\, 90802\, United States
CATEGORIES:Community Services,WALK TO END ALZHEIMER’S
ORGANIZER;CN="CORINE KUMANO":MAILTO:CORINE.KUMANO@GMAIL.COM
END:VEVENT
BEGIN:VEVENT
DTSTART;TZID=America/Los_Angeles:20250222T090000
DTEND;TZID=America/Los_Angeles:20250222T130000
DTSTAMP:20260422T091424
CREATED:20250214T004959Z
LAST-MODIFIED:20250214T013722Z
UID:6228-1740214800-1740229200@blasc.us
SUMMARY:First Responders Care Package Assembly Event
DESCRIPTION:Weekend Assembly Day at Raleigh Studios\, Stage 11\nOperation Gratitude \nJoin us for a powerful day of community service as Operation Gratitude assembles up to 10\,000 Care Packages for the heroic First Responders who served on the frontlines during the Los Angeles fires. Your hands-on participation will directly impact those who risked everything to protect our neighborhoods\, homes\, and families. \nWhat to Expect: Each Care Package will contain carefully selected items that show our appreciation and support for our First Responders. You’ll work alongside fellow volunteers in an energetic\, family-friendly environment throughout the event. No experience is necessary – our team will guide you through the assembly process. \nWe’re thrilled to share that our amazing partners at Starbucks will serve freshly brewed coffee\, tea\, and delicious pastries to keep our volunteers fueled and ready to give back! Start your morning with a warm cup\, a tasty treat\, and the satisfaction of making a difference. \nIf you are interested\, please sign up at this link (to see how many Boeing team members will participate and to log your hours) \nhttps://boeing.yourcause.com/home#/newvolunteer/event/1289799 \nThen here: \nhttps://volunteer.operationgratitude.com/opportunities/tUlS2REv0b?%24web_only=true&_branch_match_id=1249011379661521613&_branch_referrer=H4sIAAAAAAAAA8soKSkottLXr9BLz0nJ08vM10%2FVdwzPdS5Mdw9wDEyyrytKTUstKsrMS49PKsovL04tsnVNSU8FAIZ6vgQ3AAAA \n\nDetails for parking is in the link above.\n\nPlease feel free to share! \nThank you. \nBrian M. Metran \nBLASC VP Special Events \n 
URL:https://blasc.us/events/first-responders-care-package-assembly-event/
LOCATION:The Centre\, 5000 Clark Ave\, Lakewood\, CA\, 90712\, United States
CATEGORIES:Community Services,First Responders Care Package Assembly Event
ORGANIZER;CN="Brian Metran":MAILTO:brian.m.metran@boeing.com
END:VEVENT
END:VCALENDAR