BEGIN:VCALENDAR
VERSION:2.0
PRODID:-//BLASC - ECPv6.15.20//NONSGML v1.0//EN
CALSCALE:GREGORIAN
METHOD:PUBLISH
X-WR-CALNAME:BLASC
X-ORIGINAL-URL:https://blasc.us
X-WR-CALDESC:Events for BLASC
REFRESH-INTERVAL;VALUE=DURATION:PT1H
X-Robots-Tag:noindex
X-PUBLISHED-TTL:PT1H
BEGIN:VTIMEZONE
TZID:America/Los_Angeles
BEGIN:DAYLIGHT
TZOFFSETFROM:-0800
TZOFFSETTO:-0700
TZNAME:PDT
DTSTART:20240310T100000
END:DAYLIGHT
BEGIN:STANDARD
TZOFFSETFROM:-0700
TZOFFSETTO:-0800
TZNAME:PST
DTSTART:20241103T090000
END:STANDARD
BEGIN:DAYLIGHT
TZOFFSETFROM:-0800
TZOFFSETTO:-0700
TZNAME:PDT
DTSTART:20250309T100000
END:DAYLIGHT
BEGIN:STANDARD
TZOFFSETFROM:-0700
TZOFFSETTO:-0800
TZNAME:PST
DTSTART:20251102T090000
END:STANDARD
BEGIN:DAYLIGHT
TZOFFSETFROM:-0800
TZOFFSETTO:-0700
TZNAME:PDT
DTSTART:20260308T100000
END:DAYLIGHT
BEGIN:STANDARD
TZOFFSETFROM:-0700
TZOFFSETTO:-0800
TZNAME:PST
DTSTART:20261101T090000
END:STANDARD
END:VTIMEZONE
BEGIN:VEVENT
DTSTART;TZID=America/Los_Angeles:20250423T170000
DTEND;TZID=America/Los_Angeles:20250423T200000
DTSTAMP:20260422T143123
CREATED:20250319T182815Z
LAST-MODIFIED:20250603T015418Z
UID:6300-1745427600-1745438400@blasc.us
SUMMARY:April GMM: The “Indiana Jones” of Aviation
DESCRIPTION:Join BLASC in welcoming aviation archaeologist Ralph Wetterhahn\, often likened to a real-life “Indiana Jones”. He journeys across the globe\, from Cambodia to the Russian Far East\, Guadalcanal\, and the Philippines\, in pursuit of aircraft wrecks and uncovering the stories behind our nation’s missing-in-action. His documentary work has been showcased on prominent networks such as NOVA\, Discovery\, and National Geographic\, including titles like The Last Flight of Bomber-31\, Missing in MiG Alley\, and his role as lead investigator in Dogfight Over Guadalcanal. Additionally\, he is featured in the Military Channel’s series Air Aces\, particularly in the segment dedicated to triple ace General Robin Olds. \nWhen: Wednesday\, April 23\, 2025\, 5:00pm – 8:00pmWhere:Long Beach Marriott4700 Airport Plaza Dr\,Long Beach\, CA 90815 \nClick Here to view the flyer.
URL:https://blasc.us/events/april-gmm-the-indiana-jones-of-aviation/
LOCATION:Long Beach Marriott\, 4700 Airport Plaza Dr\, Long Beach\, CA\, 90815\, United States
CATEGORIES:April GMM: The “Indiana Jones” of Aviation,Dinner Meetings
ORGANIZER;CN="CORINE KUMANO":MAILTO:CORINE.KUMANO@GMAIL.COM
END:VEVENT
END:VCALENDAR