BEGIN:VCALENDAR
VERSION:2.0
PRODID:-//BLASC - ECPv6.15.20//NONSGML v1.0//EN
CALSCALE:GREGORIAN
METHOD:PUBLISH
X-WR-CALNAME:BLASC
X-ORIGINAL-URL:https://blasc.us
X-WR-CALDESC:Events for BLASC
REFRESH-INTERVAL;VALUE=DURATION:PT1H
X-Robots-Tag:noindex
X-PUBLISHED-TTL:PT1H
BEGIN:VTIMEZONE
TZID:America/Los_Angeles
BEGIN:DAYLIGHT
TZOFFSETFROM:-0800
TZOFFSETTO:-0700
TZNAME:PDT
DTSTART:20240310T100000
END:DAYLIGHT
BEGIN:STANDARD
TZOFFSETFROM:-0700
TZOFFSETTO:-0800
TZNAME:PST
DTSTART:20241103T090000
END:STANDARD
BEGIN:DAYLIGHT
TZOFFSETFROM:-0800
TZOFFSETTO:-0700
TZNAME:PDT
DTSTART:20250309T100000
END:DAYLIGHT
BEGIN:STANDARD
TZOFFSETFROM:-0700
TZOFFSETTO:-0800
TZNAME:PST
DTSTART:20251102T090000
END:STANDARD
BEGIN:DAYLIGHT
TZOFFSETFROM:-0800
TZOFFSETTO:-0700
TZNAME:PDT
DTSTART:20260308T100000
END:DAYLIGHT
BEGIN:STANDARD
TZOFFSETFROM:-0700
TZOFFSETTO:-0800
TZNAME:PST
DTSTART:20261101T090000
END:STANDARD
END:VTIMEZONE
BEGIN:VEVENT
DTSTART;TZID=America/Los_Angeles:20250807T170000
DTEND;TZID=America/Los_Angeles:20250807T200000
DTSTAMP:20260422T154928
CREATED:20250715T041348Z
LAST-MODIFIED:20250806T225607Z
UID:6618-1754586000-1754596800@blasc.us
SUMMARY:August GMM Scholarship Presentation
DESCRIPTION:Let’s celebrate the 2025 Scholarship recipient!!! \nWe are proud to recognize this year’s scholarship recipient for their outstanding commitment to academics\, leadership\, and community service. This achievement highlights their drive to make a difference and their potential for future success. This distinction serves as a testament to their dedication and potential to contribute meaningfully to society. Let’s celebrate this well-deserved honor together! \nPlease join us in recognizing and celebrating this outstanding accomplishment on: \nDate: August 7\, 2025Time: 5:00pm – 8:00pmWhere:Knott’s Berry Farm Hotel7675 Crescent Ave\, Buena Park\, CA 90620833-372-1659 \nClick here for details.
URL:https://blasc.us/events/august-gmm-scholarship-presentation/
LOCATION:Knott’s Berry Farm Hotel\, 7675 Crescent Ave\, Buena Park\, CA\, 90620\, United States
CATEGORIES:August GMM: Scholarship Presentation
ORGANIZER;CN="CORINE KUMANO":MAILTO:CORINE.KUMANO@GMAIL.COM
END:VEVENT
END:VCALENDAR