BEGIN:VCALENDAR
VERSION:2.0
PRODID:-//BLASC - ECPv6.15.20//NONSGML v1.0//EN
CALSCALE:GREGORIAN
METHOD:PUBLISH
X-ORIGINAL-URL:https://blasc.us
X-WR-CALDESC:Events for BLASC
REFRESH-INTERVAL;VALUE=DURATION:PT1H
X-Robots-Tag:noindex
X-PUBLISHED-TTL:PT1H
BEGIN:VTIMEZONE
TZID:America/Los_Angeles
BEGIN:DAYLIGHT
TZOFFSETFROM:-0800
TZOFFSETTO:-0700
TZNAME:PDT
DTSTART:20240310T100000
END:DAYLIGHT
BEGIN:STANDARD
TZOFFSETFROM:-0700
TZOFFSETTO:-0800
TZNAME:PST
DTSTART:20241103T090000
END:STANDARD
BEGIN:DAYLIGHT
TZOFFSETFROM:-0800
TZOFFSETTO:-0700
TZNAME:PDT
DTSTART:20250309T100000
END:DAYLIGHT
BEGIN:STANDARD
TZOFFSETFROM:-0700
TZOFFSETTO:-0800
TZNAME:PST
DTSTART:20251102T090000
END:STANDARD
BEGIN:DAYLIGHT
TZOFFSETFROM:-0800
TZOFFSETTO:-0700
TZNAME:PDT
DTSTART:20260308T100000
END:DAYLIGHT
BEGIN:STANDARD
TZOFFSETFROM:-0700
TZOFFSETTO:-0800
TZNAME:PST
DTSTART:20261101T090000
END:STANDARD
END:VTIMEZONE
BEGIN:VEVENT
DTSTART;TZID=America/Los_Angeles:20251118T170000
DTEND;TZID=America/Los_Angeles:20251118T200000
DTSTAMP:20260422T162013
CREATED:20250926T000510Z
LAST-MODIFIED:20251117T185344Z
UID:6837-1763485200-1763496000@blasc.us
SUMMARY:November GMM - Top Leadership Night
DESCRIPTION:Join us for our November GMM featuring a leaders from the Southern California Boeing sites\, including: \n\nHuntington Beach:  Dave Herman\nEl Segundo: Danny Howard\nSeal Beach: Chad Coppola\nLong Beach: Jeff Hoover\n\nYou will not want to miss this event. Reserve your seat today. \nBLASC members Free\nMember guests $50\n\nNon-member single ticket- $55\, includes 3-course dinner and free parking.\nPayment is taken at the event check-in table via check\, cash\, or Square. \nJOIN BLASC- as a member\, you will be invited to attend the event\, and all future events\, Free-of-Charge. \nClick here for more details..
URL:https://blasc.us/events/november-gmm-top-leadership-night/
LOCATION:Long Beach Marriott\, 4700 Airport Plaza Dr\, Long Beach\, CA\, 90815\, United States
CATEGORIES:November GMM - Top Leadership Night
ORGANIZER;CN="CORINE KUMANO":MAILTO:CORINE.KUMANO@GMAIL.COM
END:VEVENT
END:VCALENDAR