BEGIN:VCALENDAR
VERSION:2.0
PRODID:-//BLASC - ECPv6.15.20//NONSGML v1.0//EN
CALSCALE:GREGORIAN
METHOD:PUBLISH
X-WR-CALNAME:BLASC
X-ORIGINAL-URL:https://blasc.us
X-WR-CALDESC:Events for BLASC
REFRESH-INTERVAL;VALUE=DURATION:PT1H
X-Robots-Tag:noindex
X-PUBLISHED-TTL:PT1H
BEGIN:VTIMEZONE
TZID:America/Los_Angeles
BEGIN:DAYLIGHT
TZOFFSETFROM:-0800
TZOFFSETTO:-0700
TZNAME:PDT
DTSTART:20240310T100000
END:DAYLIGHT
BEGIN:STANDARD
TZOFFSETFROM:-0700
TZOFFSETTO:-0800
TZNAME:PST
DTSTART:20241103T090000
END:STANDARD
BEGIN:DAYLIGHT
TZOFFSETFROM:-0800
TZOFFSETTO:-0700
TZNAME:PDT
DTSTART:20250309T100000
END:DAYLIGHT
BEGIN:STANDARD
TZOFFSETFROM:-0700
TZOFFSETTO:-0800
TZNAME:PST
DTSTART:20251102T090000
END:STANDARD
BEGIN:DAYLIGHT
TZOFFSETFROM:-0800
TZOFFSETTO:-0700
TZNAME:PDT
DTSTART:20260308T100000
END:DAYLIGHT
BEGIN:STANDARD
TZOFFSETFROM:-0700
TZOFFSETTO:-0800
TZNAME:PST
DTSTART:20261101T090000
END:STANDARD
END:VTIMEZONE
BEGIN:VEVENT
DTSTART;TZID=America/Los_Angeles:20251027T080000
DTEND;TZID=America/Los_Angeles:20251027T170000
DTSTAMP:20260423T023101
CREATED:20251008T014417Z
LAST-MODIFIED:20251008T014417Z
UID:6883-1761552000-1761584400@blasc.us
SUMMARY:BLASC 5th Annual Golf Scramble
DESCRIPTION:It’s Par-Tee Time! \nPlease join us at Dad Miller Golf Course \nEntry fee is $95 per person which includes green fee\, cart\, range balls\, box lunch and more. \nAwards for longest drive (men/women)\, closest to pin putting contest\, 1st\, 2nd and 3rd place team winners too.  Opportunity drawing prizes and mulligan tickets to purchase as well! \nFirst tee time is 8:08am; registration is 6am.  Deadline to register is Oct. 13\, 2025. \nCome early to hit some balls. \nContact me for payment options (Venmo\, check\, cash or PayPal). \nHope you can join us! \nClick here for the flyer. \n 
URL:https://blasc.us/events/blasc-5th-annual-golf-scramble/
LOCATION:Dad Miller Golf Course\, 430 N. Gilbert St\, Anaheim\, CA\, 92801\, United States
CATEGORIES:BLASC 5th Annual Golf Scramble,Special Events
END:VEVENT
END:VCALENDAR