BEGIN:VCALENDAR
VERSION:2.0
PRODID:-//BLASC - ECPv6.15.20//NONSGML v1.0//EN
CALSCALE:GREGORIAN
METHOD:PUBLISH
X-ORIGINAL-URL:https://blasc.us
X-WR-CALDESC:Events for BLASC
REFRESH-INTERVAL;VALUE=DURATION:PT1H
X-Robots-Tag:noindex
X-PUBLISHED-TTL:PT1H
BEGIN:VTIMEZONE
TZID:America/Los_Angeles
BEGIN:DAYLIGHT
TZOFFSETFROM:-0800
TZOFFSETTO:-0700
TZNAME:PDT
DTSTART:20220313T100000
END:DAYLIGHT
BEGIN:STANDARD
TZOFFSETFROM:-0700
TZOFFSETTO:-0800
TZNAME:PST
DTSTART:20221106T090000
END:STANDARD
BEGIN:DAYLIGHT
TZOFFSETFROM:-0800
TZOFFSETTO:-0700
TZNAME:PDT
DTSTART:20230312T100000
END:DAYLIGHT
BEGIN:STANDARD
TZOFFSETFROM:-0700
TZOFFSETTO:-0800
TZNAME:PST
DTSTART:20231105T090000
END:STANDARD
BEGIN:DAYLIGHT
TZOFFSETFROM:-0800
TZOFFSETTO:-0700
TZNAME:PDT
DTSTART:20240310T100000
END:DAYLIGHT
BEGIN:STANDARD
TZOFFSETFROM:-0700
TZOFFSETTO:-0800
TZNAME:PST
DTSTART:20241103T090000
END:STANDARD
END:VTIMEZONE
BEGIN:VEVENT
DTSTART;TZID=America/Los_Angeles:20231202T170000
DTEND;TZID=America/Los_Angeles:20231202T235500
DTSTAMP:20260425T193106
CREATED:20231023T133718Z
LAST-MODIFIED:20231122T005456Z
UID:5337-1701536400-1701561300@blasc.us
SUMMARY:Magical Winter Wonderland 2023 Holiday Party
DESCRIPTION:Join BLASC for our annual holiday party. \nThis year\, you will experience a “Magical Winter Wonderland”. \nEach person needs to RSVP individually.\nBoeing Employees Sign up Here. \nNon-Boeing Members Sign up Here. (Does not work on Boeing network) \nThere is a hotel discount code available. \nLocation: Westin South Coast Plaza\, Costa Mesa \nProject Hope Alliance has been chosen to receive gift cards and gifts as part of our holiday community event .   This nonprofit provides services for homeless children and teens. \nMembers and guests are invited to shop from Project Hope Alliance’s wish list\, and bring either the gift cards or unwrapped gifts to our Holiday Dinner Dance.  One gift per person (couples please bring 2 gifts).  Their teens enjoy gift cards from Target\, Tillys\, Ulta\, H&M\, Amazon\, and In N Out! \nYou will receive extra opportunity drawing tickets to use at the dinner dance for bringing your gifts. https://www.amazon.com/registries/gl/guest-view/15FZYVEN5FY69 \nMenu\nChoice of Corn Crab Chowder or Local Arugula Salad\, Rolls & Butter\nChoice of Entrée:\nAdobo Rubbed Tenderloin with mushroom and potato gratin \, pasilla pepper jus\nHerb Marinated Frenched Chicken Breast with fork mashed potato with smoked bacon\, black truffle jus\nSeared Salmon with arborio risoto\n(Vegetarian and GF available)\nDessert Trio\nCoffee and tea service
URL:https://blasc.us/events/magical-winter-wonderland-2023-holiday-party/
LOCATION:Westin\, 686 Anton Blvd\, Costa Mesa\, CA\, 92626
CATEGORIES:Dinner Meetings,Special Events
END:VEVENT
END:VCALENDAR