BEGIN:VCALENDAR
VERSION:2.0
PRODID:-//BLASC - ECPv6.15.20//NONSGML v1.0//EN
CALSCALE:GREGORIAN
METHOD:PUBLISH
X-ORIGINAL-URL:https://blasc.us
X-WR-CALDESC:Events for BLASC
REFRESH-INTERVAL;VALUE=DURATION:PT1H
X-Robots-Tag:noindex
X-PUBLISHED-TTL:PT1H
BEGIN:VTIMEZONE
TZID:America/Los_Angeles
BEGIN:DAYLIGHT
TZOFFSETFROM:-0800
TZOFFSETTO:-0700
TZNAME:PDT
DTSTART:20220313T100000
END:DAYLIGHT
BEGIN:STANDARD
TZOFFSETFROM:-0700
TZOFFSETTO:-0800
TZNAME:PST
DTSTART:20221106T090000
END:STANDARD
BEGIN:DAYLIGHT
TZOFFSETFROM:-0800
TZOFFSETTO:-0700
TZNAME:PDT
DTSTART:20230312T100000
END:DAYLIGHT
BEGIN:STANDARD
TZOFFSETFROM:-0700
TZOFFSETTO:-0800
TZNAME:PST
DTSTART:20231105T090000
END:STANDARD
BEGIN:DAYLIGHT
TZOFFSETFROM:-0800
TZOFFSETTO:-0700
TZNAME:PDT
DTSTART:20240310T100000
END:DAYLIGHT
BEGIN:STANDARD
TZOFFSETFROM:-0700
TZOFFSETTO:-0800
TZNAME:PST
DTSTART:20241103T090000
END:STANDARD
BEGIN:DAYLIGHT
TZOFFSETFROM:-0800
TZOFFSETTO:-0700
TZNAME:PDT
DTSTART:20250309T100000
END:DAYLIGHT
BEGIN:STANDARD
TZOFFSETFROM:-0700
TZOFFSETTO:-0800
TZNAME:PST
DTSTART:20251102T090000
END:STANDARD
BEGIN:DAYLIGHT
TZOFFSETFROM:-0800
TZOFFSETTO:-0700
TZNAME:PDT
DTSTART:20260308T100000
END:DAYLIGHT
BEGIN:STANDARD
TZOFFSETFROM:-0700
TZOFFSETTO:-0800
TZNAME:PST
DTSTART:20261101T090000
END:STANDARD
END:VTIMEZONE
BEGIN:VEVENT
DTSTART;TZID=America/Los_Angeles:20251108T080000
DTEND;TZID=America/Los_Angeles:20251108T130000
DTSTAMP:20260422T091801
CREATED:20251008T020312Z
LAST-MODIFIED:20251008T020312Z
UID:6896-1762588800-1762606800@blasc.us
SUMMARY:21st Annual Cal State LA MESA STEM Day in Partnership with Boeing
DESCRIPTION:  \n \n21st Annual MESA STEM Day in Partnership with Boeing Flyer_16x9_R3
URL:https://blasc.us/events/21st-annual-cal-state-la-mesa-stem-day-in-partnership-with-boeing/
LOCATION:Cal State LA’s College of ECST\, 5151 State University Drive\, Los Angeles\, CA\, 90032\, United States
CATEGORIES:21st Annual Cal State LA MESA STEM Day in Partnership with Boeing
ORGANIZER;CN="Nandini Jani":MAILTO:nandini.a.jani@boeing.com
END:VEVENT
BEGIN:VEVENT
DTSTART;TZID=America/Los_Angeles:20251027T080000
DTEND;TZID=America/Los_Angeles:20251027T170000
DTSTAMP:20260422T091801
CREATED:20251008T014417Z
LAST-MODIFIED:20251008T014417Z
UID:6883-1761552000-1761584400@blasc.us
SUMMARY:BLASC 5th Annual Golf Scramble
DESCRIPTION:It’s Par-Tee Time! \nPlease join us at Dad Miller Golf Course \nEntry fee is $95 per person which includes green fee\, cart\, range balls\, box lunch and more. \nAwards for longest drive (men/women)\, closest to pin putting contest\, 1st\, 2nd and 3rd place team winners too.  Opportunity drawing prizes and mulligan tickets to purchase as well! \nFirst tee time is 8:08am; registration is 6am.  Deadline to register is Oct. 13\, 2025. \nCome early to hit some balls. \nContact me for payment options (Venmo\, check\, cash or PayPal). \nHope you can join us! \nClick here for the flyer. \n 
URL:https://blasc.us/events/blasc-5th-annual-golf-scramble/
LOCATION:Dad Miller Golf Course\, 430 N. Gilbert St\, Anaheim\, CA\, 92801\, United States
CATEGORIES:BLASC 5th Annual Golf Scramble,Special Events
END:VEVENT
BEGIN:VEVENT
DTSTART;TZID=America/Los_Angeles:20250819T170000
DTEND;TZID=America/Los_Angeles:20250819T220000
DTSTAMP:20260422T091801
CREATED:20250724T223613Z
LAST-MODIFIED:20250819T151944Z
UID:6689-1755622800-1755640800@blasc.us
SUMMARY:BLASC Movie Night
DESCRIPTION:
URL:https://blasc.us/events/blasc-movie-night/
LOCATION:CINEMARK CENTURY HUNTINGTON BEACH AND XD\, 7777 Edinger Ave\, Suite 170\, HUNTINGTON BEACH\, CA\, 92647\, United States
CATEGORIES:BLASC Movie Night
END:VEVENT
BEGIN:VEVENT
DTSTART;TZID=America/Los_Angeles:20250717T160000
DTEND;TZID=America/Los_Angeles:20250717T190000
DTSTAMP:20260422T091801
CREATED:20250916T022455Z
LAST-MODIFIED:20250916T022459Z
UID:6775-1752768000-1752778800@blasc.us
SUMMARY:PROUD BIRD HAPPY HOUR AND LEADERSHIP NEXT NETWORKING
DESCRIPTION:JOIN US FOR A DELIGHTFULL NETWORKING HAPPY HOUR\, WHERE YOU CAN UNWIND AND CONNECT WITH AMAZING PEOPLE IN A LIVELY AND CHEERFUL ATMOSPHERE! \nENJOY REFRESHING DRINKS\, TASTY SNACKS\, AND ENGAGING CONVERSATIONS THAT COULD SPARK NEW OPPORTUNITIES AND FRIENDSHIPS. \nDetails in the flyer: Proud Bird Happy Hour Flyer_3 \n 
URL:https://blasc.us/events/proud-bird-happy-hour-and-leadership-next-networking/
LOCATION:PROUD BIRD\, 11022 AVIATION BLVD\, LOS ANGELES\, CA\, 90045\, United States
CATEGORIES:PROUD BIRD AND LEADERSHIP NEXT NETWORKING,Special Events
ORGANIZER;CN="Brian Metran":MAILTO:brian.m.metran@boeing.com
END:VEVENT
BEGIN:VEVENT
DTSTART;TZID=America/Los_Angeles:20250627T183000
DTEND;TZID=America/Los_Angeles:20250627T233000
DTSTAMP:20260422T091801
CREATED:20250604T033530Z
LAST-MODIFIED:20250604T033534Z
UID:6496-1751049000-1751067000@blasc.us
SUMMARY:Southern California Aerospace at Angel Stadium
DESCRIPTION:All Boeing employees\, family\, friends\, and guests are welcome!    \nWebsite Link: https://www.gofevo.com/event/theboeingcompany2025 \nBLASC and Boeing team members to meet under the Baseball Cap from 6pm to 6:30pm before the game for meet and greet. Don’t forget to wear you Boeing shirts! \nPlease use the link above to purchase your tickets. ⭐ \nWhat: Angels Baseball is hosting Southern California Aerospace Night! All local Aerospace companies are invited – and for any companies with 100+ in attendance\, we will be able to have a company representative down on the field during the pre-game. Show your Boeing pride & get your tickets now for a Friday night under the lights against the Washington Nationals! \nTickets range from $24 – $113 in the following sections:Field MVP (sections 109 – 113)Club MVP (sections 315 – 322)Field All-Star (sections 106 – 108)Field Box (sections 101 – 105) \nWhen: Friday\, 6/27/25 @ 6:30PMWhere: Angel Stadium – 2000 E Gene Autry Way\, Anaheim CA\, 92806 \nFor Info\, Contact:Brian MetranBrian.M.Metran@Boeing.comAerospace Night – 6.27.25
URL:https://blasc.us/events/southern-california-aerospace-at-angel-stadium/
LOCATION:Angel’s Stadium\, Angel Stadium of Anaheim\, 2000 E Gene Autry Way\, Anaheim\, CA\, 92806\, United States
CATEGORIES:Southern California Aerospace at Angel Stadium,Special Events
ORGANIZER;CN="Brian Metran":MAILTO:brian.m.metran@boeing.com
END:VEVENT
BEGIN:VEVENT
DTSTART;TZID=America/Los_Angeles:20241207T170000
DTEND;TZID=America/Los_Angeles:20241207T235500
DTSTAMP:20260422T091801
CREATED:20241105T005520Z
LAST-MODIFIED:20241126T213358Z
UID:5991-1733590800-1733615700@blasc.us
SUMMARY:BLASC 2024 Holiday Party
DESCRIPTION:Join BLASC for our annual holiday party. Experience an Enchanted Christmas on Saturday\, December 7\, at the Hilton\, Long Beach. \nRegister today or no later than Friday\, November 22. \nBLASC members and BLASC Retirees who pay annual dues for the entire year are free. \nGuests and Retirees who pay by each event pay $115. \nDiscounted rooms are available and can be reserved at BLASC Holiday Rooms (by November 8) or by phone at 1-800-HILTONS (445-8667) and reference group code:  “90A” \nEmail your meal choice to Corine Kumano \nProvide your name\, guests name(s)\, which main dish or if you want the Alternate Dinner \nThomas House Family Shelter has been chosen to receive unwrapped household gifts and gift cards (e.g.\, Target\, Walmart). See the attached files for gift ideas and to learn more about Thomas House Family Shelter. You will receive extra opportunity drawing tickets to use at the dinner dance for bringing your gift donations (please bring one gift per person). \nDinner Menu \nChoice of \n\nFilet of Sole etouffee in a Cajun cream sauce\, rice pilaf\, and grilled vegetable or\nSeared Tri-tip with a Cabernet sauce\, mashed potatoes\, and grilled vegetables\nGluten free option – choice of fish or tri-tip (no sauce)\nVegetarian option – Portobello and vegetable short stack\, roasted and grilled zucchini\, squash\, eggplant\, red onion\, peppers\, wilted spinach and pesto oil\n\nDessert (No Choice Required) \n\nChocolate Yule Log with Vanilla Bean sauce or\nEggnog Crème Brule with Cranberry Plum Coulis\nGluten free option will be available\n\nAll menus include baked rolls\, baby field greens with Bleu cheese\, pears & walnuts with Balsamic vinaigrette\, coffee\, and tea. \nYour reservation commits BLASC to pay the venue for your dinner. To cancel\, please contact Daniela Nau at  daniela.nau@boeing.com. Any cancellations after 12:00 PM Friday\, November 22nd will result in a cancellation fee of $115 for members and non-members (including retirees). \nClick Here to View Flyer
URL:https://blasc.us/events/blasc-2024-holiday-party/
LOCATION:Hilton Long Beach\, 701 West Ocean Boulevard\, Long Beach\, CA\, 90831\, United States
CATEGORIES:Dinner Meetings,Special Events
ORGANIZER;CN="Corine Kumano":MAILTO:corine.kumano@gmail.com
END:VEVENT
BEGIN:VEVENT
DTSTART;TZID=America/Los_Angeles:20231202T170000
DTEND;TZID=America/Los_Angeles:20231202T235500
DTSTAMP:20260422T091801
CREATED:20231023T133718Z
LAST-MODIFIED:20231122T005456Z
UID:5337-1701536400-1701561300@blasc.us
SUMMARY:Magical Winter Wonderland 2023 Holiday Party
DESCRIPTION:Join BLASC for our annual holiday party. \nThis year\, you will experience a “Magical Winter Wonderland”. \nEach person needs to RSVP individually.\nBoeing Employees Sign up Here. \nNon-Boeing Members Sign up Here. (Does not work on Boeing network) \nThere is a hotel discount code available. \nLocation: Westin South Coast Plaza\, Costa Mesa \nProject Hope Alliance has been chosen to receive gift cards and gifts as part of our holiday community event .   This nonprofit provides services for homeless children and teens. \nMembers and guests are invited to shop from Project Hope Alliance’s wish list\, and bring either the gift cards or unwrapped gifts to our Holiday Dinner Dance.  One gift per person (couples please bring 2 gifts).  Their teens enjoy gift cards from Target\, Tillys\, Ulta\, H&M\, Amazon\, and In N Out! \nYou will receive extra opportunity drawing tickets to use at the dinner dance for bringing your gifts. https://www.amazon.com/registries/gl/guest-view/15FZYVEN5FY69 \nMenu\nChoice of Corn Crab Chowder or Local Arugula Salad\, Rolls & Butter\nChoice of Entrée:\nAdobo Rubbed Tenderloin with mushroom and potato gratin \, pasilla pepper jus\nHerb Marinated Frenched Chicken Breast with fork mashed potato with smoked bacon\, black truffle jus\nSeared Salmon with arborio risoto\n(Vegetarian and GF available)\nDessert Trio\nCoffee and tea service
URL:https://blasc.us/events/magical-winter-wonderland-2023-holiday-party/
LOCATION:Westin\, 686 Anton Blvd\, Costa Mesa\, CA\, 92626
CATEGORIES:Dinner Meetings,Special Events
END:VEVENT
BEGIN:VEVENT
DTSTART;TZID=America/Los_Angeles:20230901T200000
DTEND;TZID=America/Los_Angeles:20230901T230000
DTSTAMP:20260422T091801
CREATED:20230817T134132Z
LAST-MODIFIED:20230817T134252Z
UID:5323-1693598400-1693609200@blasc.us
SUMMARY:Star Wars: Return of the Jedi in Concert
DESCRIPTION:Join BLASC for a special opportunity. \nStar Wars: Return of the Jedi in Concert  \nFriday\, September 1st (Hollywood Bowl)       \nTransportation from Lakewood Center Mall included \nContact Cassidy Rath to sign up.
URL:https://blasc.us/events/star-wars-return-of-the-jedi-in-concert/
LOCATION:CA
CATEGORIES:Special Events
END:VEVENT
END:VCALENDAR