BEGIN:VCALENDAR
VERSION:2.0
PRODID:-//BLASC - ECPv6.15.20//NONSGML v1.0//EN
CALSCALE:GREGORIAN
METHOD:PUBLISH
X-ORIGINAL-URL:https://blasc.us
X-WR-CALDESC:Events for BLASC
REFRESH-INTERVAL;VALUE=DURATION:PT1H
X-Robots-Tag:noindex
X-PUBLISHED-TTL:PT1H
BEGIN:VTIMEZONE
TZID:America/Los_Angeles
BEGIN:DAYLIGHT
TZOFFSETFROM:-0800
TZOFFSETTO:-0700
TZNAME:PDT
DTSTART:20250309T100000
END:DAYLIGHT
BEGIN:STANDARD
TZOFFSETFROM:-0700
TZOFFSETTO:-0800
TZNAME:PST
DTSTART:20251102T090000
END:STANDARD
BEGIN:DAYLIGHT
TZOFFSETFROM:-0800
TZOFFSETTO:-0700
TZNAME:PDT
DTSTART:20260308T100000
END:DAYLIGHT
BEGIN:STANDARD
TZOFFSETFROM:-0700
TZOFFSETTO:-0800
TZNAME:PST
DTSTART:20261101T090000
END:STANDARD
BEGIN:DAYLIGHT
TZOFFSETFROM:-0800
TZOFFSETTO:-0700
TZNAME:PDT
DTSTART:20270314T100000
END:DAYLIGHT
BEGIN:STANDARD
TZOFFSETFROM:-0700
TZOFFSETTO:-0800
TZNAME:PST
DTSTART:20271107T090000
END:STANDARD
END:VTIMEZONE
BEGIN:VEVENT
DTSTART;TZID=America/Los_Angeles:20260502T070000
DTEND;TZID=America/Los_Angeles:20260502T170000
DTSTAMP:20260422T154304
CREATED:20260311T194211Z
LAST-MODIFIED:20260311T200427Z
UID:7307-1777705200-1777741200@blasc.us
SUMMARY:WALK FOR KIDS!!
DESCRIPTION:WALK FOR KIDS!! RONALD McDONALD HOUSE \nCome join us for a fun day in the sun and support the Long Beach Ronald McDonald House!!! \nKids Zone Area Set-Up Volunteer; Time: 5:45 a.m.–7:30 a.m. ​​               Registration Opens: 7:00am \nOpening Ceremony / 5k Walk: 7:30am \nWalk for Kids Event 5.2.26
URL:https://blasc.us/events/7307/
LOCATION:Shoreline Aquatic Park\, 200 Aquarium Way\, Long Beach\,\, CA\, 90802\, United States
CATEGORIES:WALK FOR THE KIDS
ORGANIZER;CN="Brian Metran":MAILTO:brian.m.metran@boeing.com
END:VEVENT
BEGIN:VEVENT
DTSTART;TZID=America/Los_Angeles:20260520T090000
DTEND;TZID=America/Los_Angeles:20260520T103000
DTSTAMP:20260422T154304
CREATED:20260420T171826Z
LAST-MODIFIED:20260420T171850Z
UID:7363-1779267600-1779273000@blasc.us
SUMMARY:BLASC- Dale Carnegie - Organizational Health
DESCRIPTION: Professional Development Opportunity:  \nMay 20th Lunch n Learn in conjunction with Dale Carnegie\, \nfocused on understanding workplace trends shaping performance this year. It’s called “Organizational Health in 2026” and it’s based on the data from a report found here: \nWebsite: Organizational Health in 2026: What Leaders Must Address Now Webinar
URL:https://blasc.us/events/blasc-dale-carnegie-organizational-health/
CATEGORIES:BLASC- Dale Carnegie - Organizational Health
ORGANIZER;CN="CORINE KUMANO":MAILTO:CORINE.KUMANO@GMAIL.COM
END:VEVENT
BEGIN:VEVENT
DTSTART;VALUE=DATE:20260602
DTEND;VALUE=DATE:20260605
DTSTAMP:20260422T154304
CREATED:20260420T170359Z
LAST-MODIFIED:20260420T170447Z
UID:7347-1780358400-1780617599@blasc.us
SUMMARY:Shape the Future of Space | Space Tech Expo
DESCRIPTION:INDUSTRY STAGE \nGet ready for keynotes\, panels and fireside chats as our speakers explore this year’s theme;  Shape the Future of Space  \nOver 350 companies offering cutting-edge solutions\, including electronics\, materials\, testing\, components\, and more. In this dynamic and fast-changing industry\, there’s no better opportunity to meet face-to-face. \nClick here for details.
URL:https://blasc.us/events/shape-the-future-of-space-space-tech-expo/
LOCATION:Anaheim Convention Center\, 800 W Katella Ave\,\, Anaheim\, CA\, 92802\, United States
CATEGORIES:Shape the Future of Space | Space Tech Expo
ORGANIZER;CN="CORINE KUMANO":MAILTO:CORINE.KUMANO@GMAIL.COM
END:VEVENT
END:VCALENDAR